BEGIN:VCALENDAR
VERSION:2.0
PRODID:-//Wisconsin Ready Mixed Concrete Association - ECPv6.15.20//NONSGML v1.0//EN
CALSCALE:GREGORIAN
METHOD:PUBLISH
X-WR-CALNAME:Wisconsin Ready Mixed Concrete Association
X-ORIGINAL-URL:https://wrmca.com
X-WR-CALDESC:Events for Wisconsin Ready Mixed Concrete Association
REFRESH-INTERVAL;VALUE=DURATION:PT1H
X-Robots-Tag:noindex
X-PUBLISHED-TTL:PT1H
BEGIN:VTIMEZONE
TZID:America/Chicago
BEGIN:DAYLIGHT
TZOFFSETFROM:-0600
TZOFFSETTO:-0500
TZNAME:CDT
DTSTART:20190310T080000
END:DAYLIGHT
BEGIN:STANDARD
TZOFFSETFROM:-0500
TZOFFSETTO:-0600
TZNAME:CST
DTSTART:20191103T070000
END:STANDARD
BEGIN:DAYLIGHT
TZOFFSETFROM:-0600
TZOFFSETTO:-0500
TZNAME:CDT
DTSTART:20200308T080000
END:DAYLIGHT
BEGIN:STANDARD
TZOFFSETFROM:-0500
TZOFFSETTO:-0600
TZNAME:CST
DTSTART:20201101T070000
END:STANDARD
BEGIN:DAYLIGHT
TZOFFSETFROM:-0600
TZOFFSETTO:-0500
TZNAME:CDT
DTSTART:20210314T080000
END:DAYLIGHT
BEGIN:STANDARD
TZOFFSETFROM:-0500
TZOFFSETTO:-0600
TZNAME:CST
DTSTART:20211107T070000
END:STANDARD
BEGIN:DAYLIGHT
TZOFFSETFROM:-0600
TZOFFSETTO:-0500
TZNAME:CDT
DTSTART:20220313T080000
END:DAYLIGHT
BEGIN:STANDARD
TZOFFSETFROM:-0500
TZOFFSETTO:-0600
TZNAME:CST
DTSTART:20221106T070000
END:STANDARD
END:VTIMEZONE
BEGIN:VEVENT
DTSTART;VALUE=DATE:20210119
DTEND;VALUE=DATE:20210121
DTSTAMP:20260420T051014
CREATED:20211222T032746Z
LAST-MODIFIED:20211222T032746Z
UID:2620-1611079200-1611165599@wrmca.com
SUMMARY:ACI Grade 1 Certification
DESCRIPTION:The training course offers instruction in the Fundamentals of concrete testing procedures.  Emphasis is placed upon practical information and skills which will help quality-control and testing personnel do their jobs more efficiently to ensure consistent\, quality concrete and reliable test results. \nASTM C94 requires anyone testing concrete in the field to be certified through  ACI. Testing includes a classroom session followed by a field test session in the afternoon. \nThe cost for WRMCA Members is $405.  Classes are limited to 30 people.  If you carry a current ACI\, Concrete Field Testing Technician –Grade 1\ncertification\, please be an examiner for the 2022 classes.   To sign up and help\, please contact Kim at knovak@wirmca.com. \nDownload registration form here. \n  \n  \n 
URL:https://wrmca.com/event/aci-grade-1-certification-15/
LOCATION:Riv/Crete Ready Mix\, 12005 West Hampton Avenue\, Milwaukee\, WI\, 53225\, United States
END:VEVENT
BEGIN:VEVENT
DTSTART;TZID=America/Chicago:20210114T060000
DTEND;TZID=America/Chicago:20210114T070000
DTSTAMP:20260420T051015
CREATED:20201203T035724Z
LAST-MODIFIED:20201230T215747Z
UID:2019-1610604000-1610607600@wrmca.com
SUMMARY:WRMCA Operations\, Environmental & Safety Webinar – FMCSA’s Drug and Alcohol Clearing House – What you need to know by Cassie Krause
DESCRIPTION:OES Webinar: FMCSA’s Drug and Alcohol Clearing House \nPresented by Cassie Krause\, Carew Concrete & Supply Co. \nDate: Wednesday\, January 13\, 2021 \nTime: 12:00 p.m. – 1:00 p.m. Central \nThis session will provide an overview of the FMCSA’s Drug and Alcohol Clearing House \n\nWhat is a query plan?\nWhat if an employer conducted a pre-employment query this year?\nWhat do employers need to do to satisfy the annual query requirement?\nIs your return to duty testing plan compliant with FMCSA?\n\nOur seminar is offered as a no cost\, value-added service to all WRMCA current members.  To register for the FMCSA’s Drug and Alcohol Clearing House webinar\, click here. \nOr reply to knovak@wirmca.com with: \nName:                                                                                                               \nEmail:                                                                                                                \nCompany:                                                                                                           \nThis is the second webinar in a series to address separate topics regarding compliance and safety guidelines\, changing regulations as well as a review of existing regulations.  We will be offering an OES webinar series occurring the 2nd Wednesday of each month at noon.  The webinars will be one hour in length.
URL:https://wrmca.com/event/wrmca-operations-environmental-safety-webinar-fmcsas-drug-and-alcohol-clearing-house-what-you-need-to-know-by-cassie-krause/
LOCATION:WI
END:VEVENT
BEGIN:VEVENT
DTSTART;TZID=America/Chicago:20210113T060000
DTEND;TZID=America/Chicago:20210113T070000
DTSTAMP:20260420T051015
CREATED:20201222T223849Z
LAST-MODIFIED:20201223T000318Z
UID:2027-1610517600-1610521200@wrmca.com
SUMMARY:Better Design Through Embodied Carbon Webinar
DESCRIPTION:Date: January 13\, 2021\nTime: Noon – 1:00 pm CST\nCost: Free\nPresenter: Emily Lorenz\, PE\nCredits: 1 PDH and/or 1 AIA CES LU/HSW (AIA Course #MCC011321)\nRegistration Link \nDescription: Now that architects have a good understanding of environmental impacts related to energy use\, the next design frontier in tackling climate change is reducing the embodied carbon in buildings. This live webinar will focus on best practices for determining the embodied carbon in a building\, including credible sources for embodied carbon data. It will introduce common practices and misconceptions about comparisons of embodied carbon. A case study will be presented that highlights how design decisions may be influenced when comparing among up-front carbon\, use-phase carbon\, or whole-life carbon. The presentation will highlight existing tools related to quantifying embodied carbon. \n 
URL:https://wrmca.com/event/better-design-through-embodied-carbon-webinar/
LOCATION:WI
END:VEVENT
BEGIN:VEVENT
DTSTART;TZID=America/Chicago:20201231T020000
DTEND;TZID=America/Chicago:20201231T110000
DTSTAMP:20260420T051015
CREATED:20200818T012755Z
LAST-MODIFIED:20201116T230545Z
UID:1881-1609380000-1609412400@wrmca.com
SUMMARY:Concrete Design Awards Entry Deadline
DESCRIPTION:39th Annual Call to Entries Form
URL:https://wrmca.com/event/concrete-design-awards-entry-deadline/
LOCATION:WI
END:VEVENT
BEGIN:VEVENT
DTSTART;TZID=America/Chicago:20201209T060000
DTEND;TZID=America/Chicago:20201209T070000
DTSTAMP:20260420T051015
CREATED:20201116T231040Z
LAST-MODIFIED:20201204T021534Z
UID:2010-1607493600-1607497200@wrmca.com
SUMMARY:WRMCA OPERATIONS\, ENVIRONMENTAL & SAFETY WEBINAR - COVID-19 Employer Reporting & Safety in the Workplace
DESCRIPTION:
URL:https://wrmca.com/event/wrmca-operations-environmental-safety-webinar-covid-in-the-workplace/
LOCATION:WI
END:VEVENT
BEGIN:VEVENT
DTSTART;VALUE=DATE:20201201
DTEND;VALUE=DATE:20201203
DTSTAMP:20260420T051015
CREATED:20200709T214004Z
LAST-MODIFIED:20201116T230611Z
UID:1846-1606845600-1606931999@wrmca.com
SUMMARY:CANCELLED WRMCA Scholarship Pheasant Hunt
DESCRIPTION:
URL:https://wrmca.com/event/wrmca-scholarship-pheasant-hunt-2/
LOCATION:Pheasants @ Large\, 5265 Hwy KW\, Belgium\, WI\, 53004\, United States
END:VEVENT
BEGIN:VEVENT
DTSTART;TZID=America/Chicago:20201130T020000
DTEND;TZID=America/Chicago:20201210T110000
DTSTAMP:20260420T051015
CREATED:20200923T185757Z
LAST-MODIFIED:20200923T185757Z
UID:1965-1606701600-1607598000@wrmca.com
SUMMARY:Global Concrete Summit
DESCRIPTION:Join the Wisconsin Ready Mixed Concrete Association for the first ever Global Concrete Summit conference and expo\, online November 30-December 10. Hosted by the National Ready Mixed Concrete Association and Grey Matters\, the Summit is designed to bring practitioners\, researchers and policy makers together to exchange the latest ideas\, knowledge\, and tools to build the future of concrete construction. The conference provides learning and networking opportunities on the latest innovations\, technical knowledge\, continuing research\, tools and solutions for sustainable concrete design\, construction and manufacturing. \nATTENDEES Researchers\, academics\, students\, engineers\, architects\, contractors\, policy makers\, public works officials\, concrete producers\, material suppliers and concrete industry professionals are invited to attend and present at the Conference. \n​SPEAKERS Experts from around the world will present on the latest developments related to design\, specifying\, manufacturing\, testing\, construction\, maintenance\, and research of concrete as it relates to sustainable development. \nThe WRMCA is a proud Sponsor of the Global Concrete Summit and is offering a 40% discount on registration fees. Click here to learn more and to register! Use Discount Code WRMCA40 at checkout to receive the discount. \nContact Lionel Lemay\, LLemay@nrmca.org\, +1-847-922-7995.
URL:https://wrmca.com/event/global-concrete-summit/
LOCATION:WI
END:VEVENT
BEGIN:VEVENT
DTSTART;VALUE=DATE:20201116
DTEND;VALUE=DATE:20201118
DTSTAMP:20260420T051015
CREATED:20201019T234227Z
LAST-MODIFIED:20201106T213442Z
UID:1979-1605549600-1605635999@wrmca.com
SUMMARY:CANCELLED - WRMCA ACI Grade 1 Certification Class
DESCRIPTION:WRMCA is hosting an ACI Concrete Testing Technician – Grade 1 Program on Tuesday\, November 17th at Delta by Marriott\, 2750 Ramada Way\, Green Bay\, WI and Carew Concrete.  CDC social distancing guidelines will be followed.  The classroom will have one student per table\, allowing greater than 6’ft spacing between students.  All students\, instructors\, and proctors are required to bring and wear a face covering. \n\nClass Instruction 7:30 am to 10:30 am\nWritten Exam 11:00 am to 12:00 pm\nLunch 12:00 pm\nPerformance exam begins at 1:0 pm.  We will have a sign-up sheet with 45 minute time slots.  Everyone will have to wait in their vehicle until their scheduled time.\n\nThe cost for WRMCA members is $405.  To register\, contact Kim at 608-512-1292 or knovak@wirmca.com. \nACI Concrete Testing Technician-Grade 1 Registration 11-17-20
URL:https://wrmca.com/event/wrmca-aci-grade-1-certification-class/
LOCATION:Delta by Marriott\, 2750 Ramada Way\, Green Bay\, WI\, 54304\, United States
END:VEVENT
BEGIN:VEVENT
DTSTART;VALUE=DATE:20201111
DTEND;VALUE=DATE:20201113
DTSTAMP:20260420T051015
CREATED:20200818T011333Z
LAST-MODIFIED:20200818T012254Z
UID:1880-1605117600-1605203999@wrmca.com
SUMMARY:WRMCA Board of Director's Meeting
DESCRIPTION:
URL:https://wrmca.com/event/wrmca-board-of-directors-meeting-5/
LOCATION:Pheasants @ Large\, 5265 Hwy KW\, Belgium\, WI\, 53004\, United States
END:VEVENT
BEGIN:VEVENT
DTSTART;TZID=America/Chicago:20201014T070000
DTEND;TZID=America/Chicago:20201014T080000
DTSTAMP:20260420T051015
CREATED:20200925T002237Z
LAST-MODIFIED:20200925T002429Z
UID:1968-1602658800-1602662400@wrmca.com
SUMMARY:WRMCA Paving Promotion Webinar
DESCRIPTION:Who should attend this webinar?\n• Ready mix sales reps\, marketers\, managers and owners\n• Suppliers to the ready mix industry (cement\, admix\, aggregates\, equipment\, etc)\n• Concrete contractors interested in increasing their concrete paving business \nWebinar description\n• Attendees will learn about tips\, methods and tools for converting asphalt parking\nlot projects to concrete paving.\n• Attendees will review examples of Wisconsin parking lot projects that were\noriginally intended to be asphalt\, but later converted to concrete. Learn how you\ncan promote concrete parking lots in your market area. \nPaving Promotion Webinar Flyer
URL:https://wrmca.com/event/wrmca-paving-promotion-webinar/
LOCATION:WI
END:VEVENT
BEGIN:VEVENT
DTSTART;TZID=America/Chicago:20201013T050000
DTEND;TZID=America/Chicago:20201013T090000
DTSTAMP:20260420T051015
CREATED:20200818T010905Z
LAST-MODIFIED:20200923T011509Z
UID:1879-1602565200-1602579600@wrmca.com
SUMMARY:WRMCA Technical Committee Meeting
DESCRIPTION:
URL:https://wrmca.com/event/wrmca-technical-committee-meeting-5/
LOCATION:Pheasants @ Large\, 5265 Hwy KW\, Belgium\, WI\, 53004\, United States
END:VEVENT
BEGIN:VEVENT
DTSTART;VALUE=DATE:20200930
DTEND;VALUE=DATE:20201002
DTSTAMP:20260420T051015
CREATED:20200312T011801Z
LAST-MODIFIED:20200716T211743Z
UID:1799-1601492400-1601578799@wrmca.com
SUMMARY:WRMCA Scholarship Golf Outing
DESCRIPTION:WRMCA Golf Outing Registration
URL:https://wrmca.com/event/wrmca-scholarship-golf-outing/
LOCATION:Wild Rock\, 856 Canyon Road\, Wisconsin Dells\, WI\, United States
END:VEVENT
BEGIN:VEVENT
DTSTART;TZID=America/Chicago:20200917T073000
DTEND;TZID=America/Chicago:20200917T110000
DTSTAMP:20260420T051015
CREATED:20200831T210415Z
LAST-MODIFIED:20200831T210415Z
UID:1884-1600327800-1600340400@wrmca.com
SUMMARY:WRMCA Board of Director's Meeting
DESCRIPTION:
URL:https://wrmca.com/event/wrmca-board-of-directors-meeting-6/
LOCATION:Lambeau Field\, 1265 Lombardi Ave\, Green Bay\, WI\, 54304\, United States
END:VEVENT
BEGIN:VEVENT
DTSTART;TZID=America/Chicago:20200917T023000
DTEND;TZID=America/Chicago:20200917T110000
DTSTAMP:20260420T051015
CREATED:20200817T183006Z
LAST-MODIFIED:20200817T183217Z
UID:1871-1600309800-1600340400@wrmca.com
SUMMARY:ACI Grade 1 Certification
DESCRIPTION:WRMCA is hosting an ACI Concrete Testing Technician – Grade 1 Program on Thursday\, September 17th at Delta by Marriott\, 2750 Ramada Way\, Green Bay\, WI and Carew Concrete.  CDC social distancing guidelines will be followed.  The classroom will have one student per table\, allowing greater than 6’ft spacing between students.  All students\, instructors\, and proctors are required to bring and wear a face covering. \n\nClass Instruction 7:30 am to 10:30 am\nWritten Exam 11:00 am to 12:00 pm\nLunch 12:00 pm\nPerformance exam begins at 1:0 pm.  We will have a sign-up sheet with 45 minute time slots.  Everyone will have to wait in their vehicle until their scheduled time.\n\nThe cost for WRMCA members is $405.  To register\, contact Kim at 608-512-1292 or knovak@wirmca.com. \n  \nACI Concrete Testing Technician-Grade 1 Registration 9-17-20
URL:https://wrmca.com/event/aci-grade-1-certification-12/
LOCATION:Delta by Marriott\, 2750 Ramada Way\, Green Bay\, WI\, 54304\, United States
END:VEVENT
BEGIN:VEVENT
DTSTART;TZID=America/Chicago:20200911T053000
DTEND;TZID=America/Chicago:20200911T073000
DTSTAMP:20260420T051015
CREATED:20200901T015104Z
LAST-MODIFIED:20200901T015104Z
UID:1886-1599802200-1599809400@wrmca.com
SUMMARY:WRMCA OES Committtee Conference Call
DESCRIPTION:
URL:https://wrmca.com/event/wrmca-oes-committtee-conference-call/
LOCATION:WI
END:VEVENT
BEGIN:VEVENT
DTSTART;TZID=America/Chicago:20200902T043000
DTEND;TZID=America/Chicago:20200902T050000
DTSTAMP:20260420T051015
CREATED:20200818T022402Z
LAST-MODIFIED:20200818T022416Z
UID:1882-1599021000-1599022800@wrmca.com
SUMMARY:WRMCA Statewide Promotion Committee Conference Call
DESCRIPTION:
URL:https://wrmca.com/event/wrmca-statewide-promotion-committee-conference-call/
LOCATION:WI
END:VEVENT
BEGIN:VEVENT
DTSTART;TZID=America/Chicago:20200826T050000
DTEND;TZID=America/Chicago:20200826T053000
DTSTAMP:20260420T051015
CREATED:20200818T010143Z
LAST-MODIFIED:20200818T010143Z
UID:1878-1598418000-1598419800@wrmca.com
SUMMARY:WRMCA Southeast Region Committee Conference Call
DESCRIPTION:
URL:https://wrmca.com/event/wrmca-southeast-region-committee-conference-call-3/
LOCATION:WI
END:VEVENT
BEGIN:VEVENT
DTSTART;TZID=America/Chicago:20200819T043000
DTEND;TZID=America/Chicago:20200819T050000
DTSTAMP:20260420T051015
CREATED:20200818T005805Z
LAST-MODIFIED:20200818T005805Z
UID:1877-1597811400-1597813200@wrmca.com
SUMMARY:WRMCA North Central Region Committee Conference Call
DESCRIPTION:
URL:https://wrmca.com/event/wrmca-north-central-region-committee-conference-call-2/
LOCATION:WI
END:VEVENT
BEGIN:VEVENT
DTSTART;TZID=America/Chicago:20200818T060000
DTEND;TZID=America/Chicago:20200818T063000
DTSTAMP:20260420T051015
CREATED:20200818T005620Z
LAST-MODIFIED:20200818T005620Z
UID:1875-1597730400-1597732200@wrmca.com
SUMMARY:WRMCA Southwest Region Committee Conference Call
DESCRIPTION:
URL:https://wrmca.com/event/wrmca-southwest-region-committee-conference-call-5/
LOCATION:WI
END:VEVENT
BEGIN:VEVENT
DTSTART;TZID=America/Chicago:20200818T050000
DTEND;TZID=America/Chicago:20200818T053000
DTSTAMP:20260420T051015
CREATED:20200818T005712Z
LAST-MODIFIED:20200818T005712Z
UID:1876-1597726800-1597728600@wrmca.com
SUMMARY:WRMCA Northwest Region Committee Conference Call
DESCRIPTION:
URL:https://wrmca.com/event/wrmca-northwest-region-committee-conference-call-5/
LOCATION:WI
END:VEVENT
BEGIN:VEVENT
DTSTART;TZID=America/Chicago:20200817T043000
DTEND;TZID=America/Chicago:20200817T050000
DTSTAMP:20260420T051015
CREATED:20200818T005030Z
LAST-MODIFIED:20200818T005513Z
UID:1874-1597638600-1597640400@wrmca.com
SUMMARY:WRMCA Northeast Region Committee Conference Call
DESCRIPTION:
URL:https://wrmca.com/event/wrmca-northeast-region-committee-conference-call-3/
LOCATION:WI
END:VEVENT
BEGIN:VEVENT
DTSTART;TZID=America/Chicago:20200806T023000
DTEND;TZID=America/Chicago:20200806T120000
DTSTAMP:20260420T051015
CREATED:20200630T005231Z
LAST-MODIFIED:20200630T005231Z
UID:1839-1596681000-1596715200@wrmca.com
SUMMARY:ACI Grade 1 Certification
DESCRIPTION:Attendance is limited\, please contact Kim at knovak@wirmca.com to confirm space in the class.
URL:https://wrmca.com/event/aci-grade-1-certification-11/
LOCATION:Pheasants @ Large\, 5265 Hwy KW\, Belgium\, WI\, 53004\, United States
END:VEVENT
BEGIN:VEVENT
DTSTART;TZID=America/Chicago:20200723T070000
DTEND;TZID=America/Chicago:20200723T110000
DTSTAMP:20260420T051015
CREATED:20200625T011008Z
LAST-MODIFIED:20200625T011103Z
UID:1837-1595487600-1595502000@wrmca.com
SUMMARY:WRMCA Board of Director's Meeting
DESCRIPTION:
URL:https://wrmca.com/event/wrmca-board-of-directors-meeting-4/
LOCATION:The Waters of Minocqua\, 8116 Highway 51 South\, Minocqua\, WI\, 54548\, United States
END:VEVENT
BEGIN:VEVENT
DTSTART;TZID=America/Chicago:20200714T070000
DTEND;TZID=America/Chicago:20200714T080000
DTSTAMP:20260420T051015
CREATED:20200709T215005Z
LAST-MODIFIED:20200709T215005Z
UID:1847-1594710000-1594713600@wrmca.com
SUMMARY:Webinar: Supplementary Cementitious Materials - Comparisons\, Applications\, and Outlook
DESCRIPTION:Webinar: Supplementary Cementitious Materials – Comparisons\, Applications\, and Outlook \nSupplementary cementitious materials can be used for improved concrete performance in its fresh and hardened state. They are primarily used for improved workability\, durability\, and strength. These materials allow the concrete producer to design and modify the concrete mixture to suit the desired application. This presentation will cover the basics of common supplementary materials used in concrete. Common applications\, comparisons of their properties in plastic and hardened concrete\, as well as the outlook of their future use will all be covered in the presentation. \nPresenter: Larry Sutter\, PhD (Michigan Technological University)\nDate: Tuesday\, July 14\, 2020\nTime: Noon – 1:00 pm CDT\nCost: FREE\nWho Should Attend: This will be a GREAT presentation for younger engineers!\nCredits: The presentation has been approved for 1 AIA CES LU. All participants will receive a certificate of attendance for one PDH.\nLearn More & Register: CLICK HERE
URL:https://wrmca.com/event/webinar-supplementary-cementitious-materials-comparisons-applications-and-outlook/
LOCATION:WI
END:VEVENT
BEGIN:VEVENT
DTSTART;TZID=America/Chicago:20200714T050000
DTEND;TZID=America/Chicago:20200714T090000
DTSTAMP:20260420T051015
CREATED:20200630T005651Z
LAST-MODIFIED:20200630T005651Z
UID:1840-1594702800-1594717200@wrmca.com
SUMMARY:WRMCA Technical Committee Meeting
DESCRIPTION:
URL:https://wrmca.com/event/wrmca-technical-committee-meeting-4/
LOCATION:Pheasants @ Large\, 5265 Hwy KW\, Belgium\, WI\, 53004\, United States
END:VEVENT
BEGIN:VEVENT
DTSTART;TZID=America/Chicago:20200713T053000
DTEND;TZID=America/Chicago:20200713T063000
DTSTAMP:20260420T051015
CREATED:20200625T010742Z
LAST-MODIFIED:20200625T010742Z
UID:1836-1594618200-1594621800@wrmca.com
SUMMARY:WRMCA Southwest Region Promotion Committee Conference Call
DESCRIPTION:
URL:https://wrmca.com/event/wrmca-southwest-region-promotion-committee-conference-call/
LOCATION:WI
END:VEVENT
BEGIN:VEVENT
DTSTART;VALUE=DATE:20200603
DTEND;VALUE=DATE:20200605
DTSTAMP:20260420T051015
CREATED:20200103T021149Z
LAST-MODIFIED:20200103T021149Z
UID:1746-1591210800-1591297199@wrmca.com
SUMMARY:ACI Grade 1 Certification
DESCRIPTION:ACI Concrete Field Testing Technician – Grade 1 Registration Form 2020
URL:https://wrmca.com/event/aci-grade-1-certification-14/
LOCATION:Wingra Redi-Mix\, 2975 Kapec Road\, Fitchburg\, WI\, 53719\, United States
END:VEVENT
BEGIN:VEVENT
DTSTART;VALUE=DATE:20200528
DTEND;VALUE=DATE:20200530
DTSTAMP:20260420T051015
CREATED:20200103T021000Z
LAST-MODIFIED:20200522T205028Z
UID:1745-1590692400-1590778799@wrmca.com
SUMMARY:ACI Grade 1 Certification - CLASS FULL
DESCRIPTION:Please contact Kim at knovak@wirmca.com for information on future classes.
URL:https://wrmca.com/event/aci-grade-1-certification-13/
LOCATION:Pheasants @ Large\, 5265 Hwy KW\, Belgium\, WI\, 53004\, United States
END:VEVENT
BEGIN:VEVENT
DTSTART;VALUE=DATE:20200306
DTEND;VALUE=DATE:20200310
DTSTAMP:20260420T051015
CREATED:20191024T022654Z
LAST-MODIFIED:20191024T022654Z
UID:1680-1583517600-1583780399@wrmca.com
SUMMARY:NRMCA's Annual Conference 2020
DESCRIPTION:
URL:https://wrmca.com/event/nrmcas-annual-conference-2020/
LOCATION:Wynn Encore Las Vegas Hotel\, 3121 S Las Vegas Boulevard\, Las Vegas\, NV\, 89109\, United States
END:VEVENT
BEGIN:VEVENT
DTSTART;TZID=America/Chicago:20200228T040000
DTEND;TZID=America/Chicago:20200228T070000
DTSTAMP:20260420T051015
CREATED:20190613T234046Z
LAST-MODIFIED:20191227T220028Z
UID:1548-1582862400-1582873200@wrmca.com
SUMMARY:38th Annual Concrete Design Awards Ceremony
DESCRIPTION:Concrete Design Awards Presentation Registration
URL:https://wrmca.com/event/38th-annual-concrete-design-awards-ceremony/
LOCATION:Grand Geneva\, 7036 Grand Geneva Way\, Lake Geneva\, WI\, 53147\, United States
END:VEVENT
END:VCALENDAR