BEGIN:VCALENDAR
VERSION:2.0
PRODID:-//Wisconsin Ready Mixed Concrete Association - ECPv6.15.20//NONSGML v1.0//EN
CALSCALE:GREGORIAN
METHOD:PUBLISH
X-WR-CALNAME:Wisconsin Ready Mixed Concrete Association
X-ORIGINAL-URL:https://wrmca.com
X-WR-CALDESC:Events for Wisconsin Ready Mixed Concrete Association
REFRESH-INTERVAL;VALUE=DURATION:PT1H
X-Robots-Tag:noindex
X-PUBLISHED-TTL:PT1H
BEGIN:VTIMEZONE
TZID:America/Chicago
BEGIN:DAYLIGHT
TZOFFSETFROM:-0600
TZOFFSETTO:-0500
TZNAME:CDT
DTSTART:20180311T080000
END:DAYLIGHT
BEGIN:STANDARD
TZOFFSETFROM:-0500
TZOFFSETTO:-0600
TZNAME:CST
DTSTART:20181104T070000
END:STANDARD
BEGIN:DAYLIGHT
TZOFFSETFROM:-0600
TZOFFSETTO:-0500
TZNAME:CDT
DTSTART:20190310T080000
END:DAYLIGHT
BEGIN:STANDARD
TZOFFSETFROM:-0500
TZOFFSETTO:-0600
TZNAME:CST
DTSTART:20191103T070000
END:STANDARD
BEGIN:DAYLIGHT
TZOFFSETFROM:-0600
TZOFFSETTO:-0500
TZNAME:CDT
DTSTART:20200308T080000
END:DAYLIGHT
BEGIN:STANDARD
TZOFFSETFROM:-0500
TZOFFSETTO:-0600
TZNAME:CST
DTSTART:20201101T070000
END:STANDARD
BEGIN:DAYLIGHT
TZOFFSETFROM:-0600
TZOFFSETTO:-0500
TZNAME:CDT
DTSTART:20210314T080000
END:DAYLIGHT
BEGIN:STANDARD
TZOFFSETFROM:-0500
TZOFFSETTO:-0600
TZNAME:CST
DTSTART:20211107T070000
END:STANDARD
END:VTIMEZONE
BEGIN:VEVENT
DTSTART;VALUE=DATE:20200122
DTEND;VALUE=DATE:20200124
DTSTAMP:20260424T074353
CREATED:20200103T014403Z
LAST-MODIFIED:20200103T015135Z
UID:1738-1579716000-1579802399@wrmca.com
SUMMARY:ACI Grade 1 Certification
DESCRIPTION:ACI Concrete Field Testing Technician – Grade 1 Registration Form 2020
URL:https://wrmca.com/event/aci-grade-1-certification-8/
LOCATION:Riv/Crete Ready Mix\, 12005 West Hampton Avenue\, Milwaukee\, WI\, 53225\, United States
END:VEVENT
BEGIN:VEVENT
DTSTART;TZID=America/Chicago:20200122T030000
DTEND;TZID=America/Chicago:20200122T040000
DTSTAMP:20260424T074353
CREATED:20191227T221924Z
LAST-MODIFIED:20191227T221924Z
UID:1729-1579662000-1579665600@wrmca.com
SUMMARY:Northeast Region Committee Conference Call
DESCRIPTION:
URL:https://wrmca.com/event/northeast-region-committee-conference-call-3/
END:VEVENT
BEGIN:VEVENT
DTSTART;TZID=America/Chicago:20200116T050000
DTEND;TZID=America/Chicago:20200117T060000
DTSTAMP:20260424T074353
CREATED:20190613T233649Z
LAST-MODIFIED:20191114T021415Z
UID:1545-1579150800-1579240800@wrmca.com
SUMMARY:WRMCA Annual Technical Workshop
DESCRIPTION:Tech Workshop 2020 Flyer
URL:https://wrmca.com/event/wrmca-annual-technical-workshop/
LOCATION:Kalahari Resort
END:VEVENT
BEGIN:VEVENT
DTSTART;TZID=America/Chicago:20200113T040000
DTEND;TZID=America/Chicago:20200113T050000
DTSTAMP:20260424T074353
CREATED:20191227T221709Z
LAST-MODIFIED:20191227T221843Z
UID:1728-1578888000-1578891600@wrmca.com
SUMMARY:Southwest Region Committee Conference Call
DESCRIPTION:
URL:https://wrmca.com/event/southwest-region-committee-conference-call/
END:VEVENT
BEGIN:VEVENT
DTSTART;TZID=America/Chicago:20200107T040000
DTEND;TZID=America/Chicago:20200107T050000
DTSTAMP:20260424T074353
CREATED:20191227T221628Z
LAST-MODIFIED:20191227T221628Z
UID:1727-1578369600-1578373200@wrmca.com
SUMMARY:Northeast Region Committee Conference Call
DESCRIPTION:
URL:https://wrmca.com/event/northeast-region-committee-conference-call-2/
END:VEVENT
BEGIN:VEVENT
DTSTART;TZID=America/Chicago:20200102T020000
DTEND;TZID=America/Chicago:20200102T110000
DTSTAMP:20260424T074353
CREATED:20200103T015902Z
LAST-MODIFIED:20200103T015902Z
UID:1741-1577930400-1577962800@wrmca.com
SUMMARY:ACI Grade 1 Certification
DESCRIPTION:ACI Concrete Field Testing Technician – Grade 1 Registration Form 2020
URL:https://wrmca.com/event/aci-grade-1-certification-10/
END:VEVENT
BEGIN:VEVENT
DTSTART;TZID=America/Chicago:20191216T030000
DTEND;TZID=America/Chicago:20191216T040000
DTSTAMP:20260424T074353
CREATED:20191115T221534Z
LAST-MODIFIED:20191115T221534Z
UID:1709-1576465200-1576468800@wrmca.com
SUMMARY:WRMCA Northeast Region Committee Conference Call
DESCRIPTION:
URL:https://wrmca.com/event/wrmca-northeast-region-committee-conference-call-2/
END:VEVENT
BEGIN:VEVENT
DTSTART;VALUE=DATE:20191210
DTEND;VALUE=DATE:20191212
DTSTAMP:20260424T074353
CREATED:20190613T233508Z
LAST-MODIFIED:20190613T233508Z
UID:1544-1576000800-1576087199@wrmca.com
SUMMARY:WRMCA Annual Pheasant Hunt
DESCRIPTION:
URL:https://wrmca.com/event/wrmca-annual-pheasant-hunt-2/
LOCATION:Pheasants @ Large\, 5265 Hwy KW\, Belgium\, WI\, 53004\, United States
END:VEVENT
BEGIN:VEVENT
DTSTART;VALUE=DATE:20191205
DTEND;VALUE=DATE:20191207
DTSTAMP:20260424T074353
CREATED:20190613T233323Z
LAST-MODIFIED:20191115T204024Z
UID:1543-1575568800-1575655199@wrmca.com
SUMMARY:WRMCA Concrete Design Awards Entry Deadline
DESCRIPTION:38th Annual Call to Entries
URL:https://wrmca.com/event/wrmca-concrete-design-awards-entry-deadline-2/
END:VEVENT
BEGIN:VEVENT
DTSTART;TZID=America/Chicago:20191205T030000
DTEND;TZID=America/Chicago:20191205T040000
DTSTAMP:20260424T074353
CREATED:20191114T034201Z
LAST-MODIFIED:20191114T034201Z
UID:1706-1575514800-1575518400@wrmca.com
SUMMARY:WRMCA Northwest Region Committee Conference Call
DESCRIPTION:
URL:https://wrmca.com/event/wrmca-northwest-region-committee-conference-call-4/
END:VEVENT
BEGIN:VEVENT
DTSTART;VALUE=DATE:20191204
DTEND;VALUE=DATE:20191207
DTSTAMP:20260424T074353
CREATED:20190729T234959Z
LAST-MODIFIED:20191125T235657Z
UID:1641-1575482400-1575655199@wrmca.com
SUMMARY:WRMCA Annual OES Workshop
DESCRIPTION:OES Workshop Registration Form
URL:https://wrmca.com/event/oes-workshop/
LOCATION:Kalahari Resort
END:VEVENT
BEGIN:VEVENT
DTSTART;TZID=America/Chicago:20191204T040000
DTEND;TZID=America/Chicago:20191204T050000
DTSTAMP:20260424T074353
CREATED:20191114T034124Z
LAST-MODIFIED:20191114T034124Z
UID:1705-1575432000-1575435600@wrmca.com
SUMMARY:WRMCA Southwest Region Committee Conference Call
DESCRIPTION:
URL:https://wrmca.com/event/wrmca-southwest-region-committee-conference-call-4/
END:VEVENT
BEGIN:VEVENT
DTSTART;TZID=America/Chicago:20191203T040000
DTEND;TZID=America/Chicago:20191203T050000
DTSTAMP:20260424T074353
CREATED:20191114T034255Z
LAST-MODIFIED:20191114T034255Z
UID:1707-1575345600-1575349200@wrmca.com
SUMMARY:WRMCA Southeast Region Committee Meeting
DESCRIPTION:
URL:https://wrmca.com/event/wrmca-southeast-region-committee-meeting-2/
LOCATION:Schmitz Ready Mix\, 11815 W Bradley Road\, Milwaukee\, WI\, United States
END:VEVENT
BEGIN:VEVENT
DTSTART;TZID=America/Chicago:20191113T113000
DTEND;TZID=America/Chicago:20191113T150000
DTSTAMP:20260424T074353
CREATED:20191101T233029Z
LAST-MODIFIED:20191101T233029Z
UID:1697-1573644600-1573657200@wrmca.com
SUMMARY:ACI Wisconsin: Durable Concrete Solutions
DESCRIPTION:For more information\, go to https://aciwisconsin.starchapter.com/meetinginfo.php?id=68&ts=1572463655.
URL:https://wrmca.com/event/aci-wisconsin-durable-concrete-solutions/
LOCATION:Delafield Brewhaus\, 3832 Hillside Drive\, Delafield\, WI\, 53018\, United States
END:VEVENT
BEGIN:VEVENT
DTSTART;VALUE=DATE:20191106
DTEND;VALUE=DATE:20191108
DTSTAMP:20260424T074353
CREATED:20190613T233236Z
LAST-MODIFIED:20190613T233236Z
UID:1542-1573063200-1573149599@wrmca.com
SUMMARY:WRMCA Board Meeting
DESCRIPTION:
URL:https://wrmca.com/event/wrmca-board-meeting-3/
LOCATION:Pheasants @ Large\, 5265 Hwy KW\, Belgium\, WI\, 53004\, United States
END:VEVENT
BEGIN:VEVENT
DTSTART;TZID=America/Chicago:20191030T023000
DTEND;TZID=America/Chicago:20191030T113000
DTSTAMP:20260424T074353
CREATED:20191001T001208Z
LAST-MODIFIED:20191023T195837Z
UID:1662-1572402600-1572435000@wrmca.com
SUMMARY:CANCELLED - ACI Grade 1 Certification Class
DESCRIPTION:ACI Concrete Testing Technician-Grade 1 Registration 10-30-19
URL:https://wrmca.com/event/aci-grade-1-certification-class-2/
LOCATION:Wingra Redi-Mix\, 2975 Kapec Road\, Fitchburg\, WI\, 53719\, United States
END:VEVENT
BEGIN:VEVENT
DTSTART;TZID=America/Chicago:20191018T053000
DTEND;TZID=America/Chicago:20191018T083000
DTSTAMP:20260424T074353
CREATED:20190729T233853Z
LAST-MODIFIED:20191010T190542Z
UID:1640-1571376600-1571387400@wrmca.com
SUMMARY:OES Committee Meeting
DESCRIPTION:
URL:https://wrmca.com/event/oes-committee-meeting-2/
LOCATION:Cooper’s Tavern\, 20 W. Mifflin Street\, Madison\, WI\, United States
END:VEVENT
BEGIN:VEVENT
DTSTART;TZID=America/Chicago:20191016T123000
DTEND;TZID=America/Chicago:20191016T163000
DTSTAMP:20260424T074353
CREATED:20191010T190133Z
LAST-MODIFIED:20191010T190133Z
UID:1668-1571229000-1571243400@wrmca.com
SUMMARY:ACI Wisconsin Meeting - Overcoming the Challenges of Polished Concrete
DESCRIPTION:Register
URL:https://wrmca.com/event/aci-wisconsin-meeting-overcoming-the-challenges-of-polished-concrete/
LOCATION:Delafield Brewhaus\, 3832 Hillside Drive\, Delafield\, WI\, 53018\, United States
END:VEVENT
BEGIN:VEVENT
DTSTART;TZID=America/Chicago:20191015T080000
DTEND;TZID=America/Chicago:20191015T090000
DTSTAMP:20260424T074353
CREATED:20190613T233141Z
LAST-MODIFIED:20190613T233141Z
UID:1541-1571126400-1571130000@wrmca.com
SUMMARY:Associate Committee Meeting
DESCRIPTION:
URL:https://wrmca.com/event/associate-committee-meeting/
LOCATION:Cabela’s\, 1 Cabela Way\, Richfield\, WI\, United States
END:VEVENT
BEGIN:VEVENT
DTSTART;TZID=America/Chicago:20191015T050000
DTEND;TZID=America/Chicago:20191015T090000
DTSTAMP:20260424T074353
CREATED:20190613T233050Z
LAST-MODIFIED:20190613T233050Z
UID:1540-1571115600-1571130000@wrmca.com
SUMMARY:Technical Committee Meeting
DESCRIPTION:
URL:https://wrmca.com/event/technical-committee-meeting/
LOCATION:Cabela’s\, 1 Cabela Way\, Richfield\, WI\, United States
END:VEVENT
BEGIN:VEVENT
DTSTART;TZID=America/Chicago:20191005T030000
DTEND;TZID=America/Chicago:20191007T120000
DTSTAMP:20260424T074353
CREATED:20190613T232903Z
LAST-MODIFIED:20190718T234920Z
UID:1537-1570244400-1570449600@wrmca.com
SUMMARY:NRMCA ConcreteWorks
DESCRIPTION:Registration Information
URL:https://wrmca.com/event/nrmca-concreteworks/
LOCATION:Gaylor Palms Resort & Convention Center\, 6000 W Osceola Pkwy\, Kissimmee\, FL\, 34746\, United States
END:VEVENT
BEGIN:VEVENT
DTSTART;TZID=America/Chicago:20190918T123000
DTEND;TZID=America/Chicago:20190918T160000
DTSTAMP:20260424T074353
CREATED:20190909T234359Z
LAST-MODIFIED:20190909T234359Z
UID:1653-1568809800-1568822400@wrmca.com
SUMMARY:ACI Wisconsin - Curing\, Sealing and Floor Treatments for Today's Concrete
DESCRIPTION:Click here for more information.
URL:https://wrmca.com/event/aci-wisconsin-curing-sealing-and-floor-treatments-for-todays-concrete/
LOCATION:Delafield Brewhaus\, 3832 Hillside Drive\, Delafield\, WI\, 53018\, United States
END:VEVENT
BEGIN:VEVENT
DTSTART;TZID=America/Chicago:20190912T060000
DTEND;TZID=America/Chicago:20190912T120000
DTSTAMP:20260424T074353
CREATED:20190613T232542Z
LAST-MODIFIED:20190613T232542Z
UID:1535-1568268000-1568289600@wrmca.com
SUMMARY:WRMCA Board Meeting
DESCRIPTION:
URL:https://wrmca.com/event/wrmca-board-meeting-2/
LOCATION:Blue Harbor Resort\, 725 Blue Harbor Drive\, Sheboygan\, WI\, United States
END:VEVENT
BEGIN:VEVENT
DTSTART;TZID=America/Chicago:20190828T080000
DTEND;TZID=America/Chicago:20190829T100000
DTSTAMP:20260424T074353
CREATED:20190718T234702Z
LAST-MODIFIED:20190718T234739Z
UID:1630-1566979200-1567072800@wrmca.com
SUMMARY:Promoters' Forum 2019
DESCRIPTION:Registration Information
URL:https://wrmca.com/event/promoters-forum-2019/
LOCATION:Loews Chicago O’Hare Hotel\, 5300 N. River Road\, Rosemont\, IL\, 60018\, United States
END:VEVENT
BEGIN:VEVENT
DTSTART;TZID=America/Chicago:20190820T040000
DTEND;TZID=America/Chicago:20190820T050000
DTSTAMP:20260424T074353
CREATED:20190724T183254Z
LAST-MODIFIED:20190807T195437Z
UID:1637-1566273600-1566277200@wrmca.com
SUMMARY:WRMCA Northeast Region Committee Conference Call
DESCRIPTION:
URL:https://wrmca.com/event/northeast-region-committee-conference-call/
END:VEVENT
BEGIN:VEVENT
DTSTART;TZID=America/Chicago:20190809T040000
DTEND;TZID=America/Chicago:20190809T050000
DTSTAMP:20260424T074353
CREATED:20190724T183123Z
LAST-MODIFIED:20190807T195121Z
UID:1635-1565323200-1565326800@wrmca.com
SUMMARY:WRMCA Northwest Region Committee Conference Call
DESCRIPTION:
URL:https://wrmca.com/event/wrmca-northwest-region-committee-conference-call-3/
END:VEVENT
BEGIN:VEVENT
DTSTART;TZID=America/Chicago:20190806T050000
DTEND;TZID=America/Chicago:20190806T060000
DTSTAMP:20260424T074353
CREATED:20190724T183215Z
LAST-MODIFIED:20190807T195357Z
UID:1636-1565067600-1565071200@wrmca.com
SUMMARY:WRMCA North Central Region Committee Conference Call
DESCRIPTION:
URL:https://wrmca.com/event/north-central-region-committee-conference-call/
END:VEVENT
BEGIN:VEVENT
DTSTART;TZID=America/Chicago:20190801T053000
DTEND;TZID=America/Chicago:20190801T063000
DTSTAMP:20260424T074353
CREATED:20190724T183048Z
LAST-MODIFIED:20190724T183048Z
UID:1634-1564637400-1564641000@wrmca.com
SUMMARY:WRMCA Southeast Region Committee Conference Call
DESCRIPTION:
URL:https://wrmca.com/event/wrmca-southeast-region-committee-conference-call-2/
END:VEVENT
BEGIN:VEVENT
DTSTART;TZID=America/Chicago:20190730T053000
DTEND;TZID=America/Chicago:20190730T063000
DTSTAMP:20260424T074353
CREATED:20190724T183009Z
LAST-MODIFIED:20190724T183009Z
UID:1633-1564464600-1564468200@wrmca.com
SUMMARY:WRMCA Southwest Region Committee Conference Call
DESCRIPTION:
URL:https://wrmca.com/event/wrmca-southwest-region-committee-conference-call-3/
END:VEVENT
BEGIN:VEVENT
DTSTART;TZID=America/Chicago:20190726T050000
DTEND;TZID=America/Chicago:20190726T070000
DTSTAMP:20260424T074353
CREATED:20190613T231653Z
LAST-MODIFIED:20190613T231653Z
UID:1534-1564117200-1564124400@wrmca.com
SUMMARY:OES Committee Meeting
DESCRIPTION:
URL:https://wrmca.com/event/oes-committee-meeting/
LOCATION:Cooper’s Tavern\, 20 W. Mifflin Street\, Madison\, WI\, United States
END:VEVENT
END:VCALENDAR